BEGIN:VCALENDAR
VERSION:2.0
PRODID:-//CHHA-NSB - ECPv6.15.20//NONSGML v1.0//EN
CALSCALE:GREGORIAN
METHOD:PUBLISH
X-ORIGINAL-URL:https://www.chha-nsb.com
X-WR-CALDESC:Events for CHHA-NSB
REFRESH-INTERVAL;VALUE=DURATION:PT1H
X-Robots-Tag:noindex
X-PUBLISHED-TTL:PT1H
BEGIN:VTIMEZONE
TZID:America/Vancouver
BEGIN:DAYLIGHT
TZOFFSETFROM:-0800
TZOFFSETTO:-0700
TZNAME:PDT
DTSTART:20240310T100000
END:DAYLIGHT
BEGIN:STANDARD
TZOFFSETFROM:-0700
TZOFFSETTO:-0800
TZNAME:PST
DTSTART:20241103T090000
END:STANDARD
BEGIN:DAYLIGHT
TZOFFSETFROM:-0800
TZOFFSETTO:-0700
TZNAME:PDT
DTSTART:20250309T100000
END:DAYLIGHT
BEGIN:STANDARD
TZOFFSETFROM:-0700
TZOFFSETTO:-0800
TZNAME:PST
DTSTART:20251102T090000
END:STANDARD
BEGIN:DAYLIGHT
TZOFFSETFROM:-0800
TZOFFSETTO:-0700
TZNAME:PDT
DTSTART:20260308T100000
END:DAYLIGHT
BEGIN:STANDARD
TZOFFSETFROM:-0700
TZOFFSETTO:-0800
TZNAME:PST
DTSTART:20261101T090000
END:STANDARD
END:VTIMEZONE
BEGIN:VEVENT
DTSTART;TZID=America/Vancouver:20250911T130000
DTEND;TZID=America/Vancouver:20250911T143000
DTSTAMP:20260421T121601
CREATED:20250616T192937Z
LAST-MODIFIED:20250616T192937Z
UID:7916-1757595600-1757601000@www.chha-nsb.com
SUMMARY:Speech Reading Afternoon Course Level 3 Begins
DESCRIPTION:This Vancouver Community College course taught by Lisa Dillon Edgett is now called Living Successfully with Hearing Loss and will continue on-line until further notice.  SWHL Level 3 course expands the knowledge\, skills\, and abilities developed through Levels 1 and 2 and provides the opportunity for students to apply these skills in their lives with support\, guidance\, and feedback. The students move from generalized situations to real challenges and responsibilities of living in the hearing world. This course emphasizes real-life experiences both in and out of the classroom\, incorporating higher-level communication\, larger groups\, and noisy environments. The students will evaluate their relationship with technology and\, ultimately\, assess their self-efficacy related to living successfully with hearing loss. Registration is now open for these courses. \nLevel 3  Afternoon Option Thursday afternoons\, 1 pm\nDates:  Sept 11 to Nov 27 \nTuition and fees for the course are approximately $315.00; financial support may be available via a successful application for senior tuition waivers or adult upgrading grants. \nFor more information\, or to request registration forms\, contact Lisa Dillon Edgett:\n604-871-7348 or ldillonedgett@vcc.ca
URL:https://www.chha-nsb.com/chha-nsb-calendar-single-post-name/speech-reading-afternoon-course-level-3-begins-2/
ORGANIZER;CN="Vancouver Community College":MAILTO:ldillonedgett@vcc.ca
END:VEVENT
BEGIN:VEVENT
DTSTART;TZID=America/Vancouver:20250911T190000
DTEND;TZID=America/Vancouver:20250911T203000
DTSTAMP:20260421T121601
CREATED:20250616T192435Z
LAST-MODIFIED:20250616T192435Z
UID:7914-1757617200-1757622600@www.chha-nsb.com
SUMMARY:Speech Reading Evening Course Level 3 Begins
DESCRIPTION:This Vancouver Community College course taught by Lisa Dillon Edgett is now called Living Successfully with Hearing Loss and will continue on-line until further notice.  LSWHL Level 3 course expands the knowledge\, skills\, and abilities developed through Levels 1 and 2 and provides the opportunity for students to apply these skills in their lives with support\, guidance\, and feedback. The students move from generalized situations to real challenges and responsibilities of living in the hearing world. This course emphasizes real-life experiences both in and out of the classroom\, incorporating higher-level communication\, larger groups\, and noisy environments. The students will evaluate their relationship with technology and\, ultimately\, assess their self-efficacy related to living successfully with hearing loss. Registration is now open for these courses. \nLevel 3 Evening Option  Thursday evenings\, 7 pm\nDates:  Sept 11 to Nov 27 \nTuition and fees for the course are approximately $315.00; financial support may be available via a successful application for senior tuition waivers or adult upgrading grants. \nFor more information\, or to request registration forms\, contact Lisa Dillon Edgett:\n604-871-7348 or ldillonedgett@vcc.ca
URL:https://www.chha-nsb.com/chha-nsb-calendar-single-post-name/speech-reading-evening-course-level-3-begins-2/
ORGANIZER;CN="Vancouver Community College":MAILTO:ldillonedgett@vcc.ca
END:VEVENT
END:VCALENDAR